BEGIN:VCALENDAR
VERSION:2.0
PRODID:-// - ECPv6.2.8//NONSGML v1.0//EN
CALSCALE:GREGORIAN
METHOD:PUBLISH
X-ORIGINAL-URL:https://staging.jcfamilies.com
X-WR-CALDESC:Events for 
REFRESH-INTERVAL;VALUE=DURATION:PT1H
X-Robots-Tag:noindex
X-PUBLISHED-TTL:PT1H
BEGIN:VTIMEZONE
TZID:America/New_York
BEGIN:DAYLIGHT
TZOFFSETFROM:-0500
TZOFFSETTO:-0400
TZNAME:EDT
DTSTART:20180311T070000
END:DAYLIGHT
BEGIN:STANDARD
TZOFFSETFROM:-0400
TZOFFSETTO:-0500
TZNAME:EST
DTSTART:20181104T060000
END:STANDARD
END:VTIMEZONE
BEGIN:VEVENT
DTSTART;TZID=America/New_York:20180507T110000
DTEND;TZID=America/New_York:20180507T120000
DTSTAMP:20260421T093255
CREATED:20180321T145524Z
LAST-MODIFIED:20180501T235123Z
UID:56523-1525690800-1525694400@staging.jcfamilies.com
SUMMARY:Post-Partum Depression support Group in Jersey City
DESCRIPTION:Post-Partum Depression support Group in Jersey City \n“Out of the Blue” \n85% of women feel some sort of mood issues after delivering a baby.  This can be feelings of sadness\, guilt\, anxiety\, or just feeling “unwell”. \nIt’s very important that you speak to your physician about this\, but it’s also nice to know that other mothers have the same feelings and struggles. \nWe would like to provide a forum where mothers can share feelings and experiences in a caring\, non-judgmental atmosphere. \nFor The first few Post-Partum Depression support Group in Jersey City will be attended by a local primary care Dr. Ritu Sharma to help facilitate the conversation and answers any questions or concerns you may have. This safe space will become a gathering place for moms to connect\, discuss challenges\, and support one another.
URL:https://staging.jcfamilies.com/event/post-partum-depression-support-group-in-jersey-city/
LOCATION:Bucket & Bay Craft Gelato Company\, 150 Bay St\, \, Jersey City \, United States
CATEGORIES:JCFamily
ATTACH;FMTTYPE=image/png:https://staging.jcfamilies.com/wp-content/uploads/2018/03/unnamed-6.png
END:VEVENT
END:VCALENDAR