BEGIN:VCALENDAR
VERSION:2.0
PRODID:-// - ECPv6.2.8//NONSGML v1.0//EN
CALSCALE:GREGORIAN
METHOD:PUBLISH
X-ORIGINAL-URL:https://staging.jcfamilies.com
X-WR-CALDESC:Events for 
REFRESH-INTERVAL;VALUE=DURATION:PT1H
X-Robots-Tag:noindex
X-PUBLISHED-TTL:PT1H
BEGIN:VTIMEZONE
TZID:America/New_York
BEGIN:DAYLIGHT
TZOFFSETFROM:-0500
TZOFFSETTO:-0400
TZNAME:EDT
DTSTART:20180311T070000
END:DAYLIGHT
BEGIN:STANDARD
TZOFFSETFROM:-0400
TZOFFSETTO:-0500
TZNAME:EST
DTSTART:20181104T060000
END:STANDARD
END:VTIMEZONE
BEGIN:VEVENT
DTSTART;TZID=America/New_York:20180606T180000
DTEND;TZID=America/New_York:20180606T210000
DTSTAMP:20260422T041911
CREATED:20180524T174218Z
LAST-MODIFIED:20180608T165052Z
UID:57416-1528308000-1528318800@staging.jcfamilies.com
SUMMARY:Special Invite - Join Us For SJC Green Drinks +ART Event
DESCRIPTION:Special Event – SJC Green Drinks +ART @ LITM\, Wed June 6th\, 6-9pm \nSuggested Donation – $5 \nThe first time downtown\, SJC Green Drinks +ART will be hosting those who have an interest in sustainability and would like to meet other like-minded people. Who knows\, maybe you will leave with a neighborhood project in mind and some new friends to help you do it! Join Us If You Can 🙂 \nLITM is the fabulously friendly downtown hang with great drinks and food (in case you want to stay for dinner !) and their monthly art shows offer a really creative vibe in the heart of JC’s restaurant row. June’s theme is everything NEON ~ \nYour first drink is on us! (While comps last) Happy Hour $5 Drinks 6-7pm \nThank you to our Sponsors: Hoboken Brownstone Co. & JMA Jorge Mastropietro Atelier
URL:https://staging.jcfamilies.com/event/sjc-sustainable-jersey-city/
LOCATION:LITM\, 140 Newark Ave\, Jersey City\, NJ\, United States
CATEGORIES:JCFamily
ATTACH;FMTTYPE=image/jpeg:https://staging.jcfamilies.com/wp-content/uploads/2018/05/32267194_10160394916765261_2886478010167328768_o.jpg
END:VEVENT
END:VCALENDAR