BEGIN:VCALENDAR
VERSION:2.0
PRODID:-// - ECPv6.2.8//NONSGML v1.0//EN
CALSCALE:GREGORIAN
METHOD:PUBLISH
X-ORIGINAL-URL:https://staging.jcfamilies.com
X-WR-CALDESC:Events for 
REFRESH-INTERVAL;VALUE=DURATION:PT1H
X-Robots-Tag:noindex
X-PUBLISHED-TTL:PT1H
BEGIN:VTIMEZONE
TZID:America/New_York
BEGIN:DAYLIGHT
TZOFFSETFROM:-0500
TZOFFSETTO:-0400
TZNAME:EDT
DTSTART:20190310T070000
END:DAYLIGHT
BEGIN:STANDARD
TZOFFSETFROM:-0400
TZOFFSETTO:-0500
TZNAME:EST
DTSTART:20191103T060000
END:STANDARD
END:VTIMEZONE
BEGIN:VEVENT
DTSTART;TZID=America/New_York:20190302T110000
DTEND;TZID=America/New_York:20190629T140000
DTSTAMP:20260422T232825
CREATED:20190225T180304Z
LAST-MODIFIED:20190228T180146Z
UID:61245-1551524400-1561816800@staging.jcfamilies.com
SUMMARY:Registration for Pershing Field Baseball in Jersey City
DESCRIPTION:Registration for Pershing Field Baseball in Jersey City\nRegistration is now open for Pershing Field Baseball at Pershing Field Park! Everyone that register must provide birth certificate and proof of address. \nThe divisions for the 2019 season are as follows: \nTee-Ball 3-4:                        Registration Fee $35.00\nMini-Minors 5-6:               Registration Fee $35.00\nMinors 7-9:                           Registration Fee $50.00\nMajors (Boys) 10-12:          Registration Fee $50.00\n\nMajors (Girls) * 10-12:      Registration Fee $50.00\n\nMajors (Boys) 13-16:          Registration Fee $50.00\n\nMajors (Girls)* 13-16:       Registration Fee $50.00\n\n\n\n*Girls divisions are softball.\n\n\nPershing Field Baseball is located at Pershing Field Club House\, 201 Central Avenue\, Jersey City\, NJ\, 07307.\n\n\nAny questions or concerns can be sent to Pershingfieldponyleague@gmail.com\n\n\nCheck their website or Facebook page for more details.
URL:https://staging.jcfamilies.com/event/registration-pershing-field-baseball-jersey-city/
LOCATION:Pershing Field Park\,\, Jersey City\, AU
CATEGORIES:Others
ATTACH;FMTTYPE=image/jpeg:https://staging.jcfamilies.com/wp-content/uploads/2019/02/Pershing-Field-Pony-League-2019-Registration.jpg
END:VEVENT
BEGIN:VEVENT
DTSTART;TZID=America/New_York:20190309T100000
DTEND;TZID=America/New_York:20190309T140000
DTSTAMP:20260422T232825
CREATED:20181126T175027Z
LAST-MODIFIED:20190311T155149Z
UID:60512-1552125600-1552140000@staging.jcfamilies.com
SUMMARY:JC Kids Obstacle Run 2019
DESCRIPTION:JC Kids Obstacle Run 2019\nJC Kids Obstacle Run 2019: Calling all KIDS from 4 to 12 years old for The JC Kids Obstacle Run 2019 on Saturday March 9th 2019. \nPLEASE NOTE: Registration is CLOSED. We will not be selling tickets at the door.  \nJoin JCFamilies and Wildly Fit  for our first ever JC Kids Obstacle Run! The kids will explore fun and challenging age appropriate obstacles as they race through the course with their designated age group. The participants will use their body and muscles balancing\, jumping\, carrying items\, crawling\, and running while conquering obstacles set up for their age. \nIn order to run the event smoothly\, we have some guidelines for everyone\, so please read carefully:\n\n– Parents need to collect runners bibs 30 minutes before their child’s scheduled run time.\n\nSCHEDULE: *please note: the JC Obstacle Run includes the participation from many kids and sometimes due to different circumstances the schedule may change.\n\n10:00 am: Check In Starts\n\n10:30 am: Age group 4 years old\n\n11:15 am: Age group 5 years old\n\n12:10 pm: Age group 6 years old\n\n12:30 pm : Age group 7 years old\n\n1:00 pm: Age group 8 years old\n\n1:20 pm: Age group 9\,to 12 years old\n\n– Parents must sign a waiver before the run.\n\n– All Kids must attend the warm up session before they run.\n\n– Parents/viewers will not be allowed on the course before\, after\, or during the run. There will be designated areas for parents/viewers to watch the race.\n\n\n\n– Age groups may be divided into heats to avoid overcrowding\n\n– All kids will get a medal at the end of the run.\n\n– The winners of each heat will get a trophy.\n\nVery Important: No parents\, caregivers\, or family members will be allowed on the track before\, after\, or during the run. If this rule is not followed\, the child will be disqualified and no refund will be given.\n\nAfter completion the runners will get water.\n\n  \nHere’s a little sneak peak of some of the obstacles your kids can expect on our course: \n \nDelicate Balance: The floor is lava\, and the only way across is to balance! \n \nMission Impossible: Get across without getting caught in the wires! \n \nFeisty Fences: Get up and over the fences to keep running the Obstacle Course .  \n \nSpider Crawl: Stay low and move quickly to avoid getting caught in the web. \n \nSloth Hang: Hang like a sloth using both hands and feet from the metal beam and pull all the way across. (Psst: This one’s tricky\, so there will be soft mats to catch any racer who doesn’t make it to the end). \nThe event will take place indoors at The Cordero School at 158 Erie St\, Jersey City\, NJ 07302. \nParents will be asked to sign a waiver at the day of the event while checking in. All parents that have registered have received an email with instructions and time schedule. If you have not received your email\, please let us know at admin@jcfamilies.com.  \n\nAll JC Kids Obstacle Run participants will receive a medal. Fastest participants in each age group will be awarded with a trophy.  \nIn order to qualify for the trophy ALL obstacles must be completed. \n \n\n\nSAVE THE DATE & SPREAD THE WORD!\n#jckidsobstaclerun2019 #jckidsobstaclerun #KidsObstacleRunInJerseyCity #JCFamilies #WildlyFit
URL:https://staging.jcfamilies.com/event/jc-kids-obstacle-run-2019/
LOCATION:Cordero Elementary School\, 158 Erie St\, Jersey City\, NJ\, 07302.\, United States
CATEGORIES:JCFamily
ATTACH;FMTTYPE=image/png:https://staging.jcfamilies.com/wp-content/uploads/2018/11/presented-by.png
ORGANIZER;CN="JCFamilies":MAILTO:admin@jcfamilies.com
END:VEVENT
END:VCALENDAR