BEGIN:VCALENDAR
VERSION:2.0
PRODID:-// - ECPv6.2.8//NONSGML v1.0//EN
CALSCALE:GREGORIAN
METHOD:PUBLISH
X-ORIGINAL-URL:https://staging.jcfamilies.com
X-WR-CALDESC:Events for 
REFRESH-INTERVAL;VALUE=DURATION:PT1H
X-Robots-Tag:noindex
X-PUBLISHED-TTL:PT1H
BEGIN:VTIMEZONE
TZID:America/New_York
BEGIN:DAYLIGHT
TZOFFSETFROM:-0500
TZOFFSETTO:-0400
TZNAME:EDT
DTSTART:20220313T070000
END:DAYLIGHT
BEGIN:STANDARD
TZOFFSETFROM:-0400
TZOFFSETTO:-0500
TZNAME:EST
DTSTART:20221106T060000
END:STANDARD
END:VTIMEZONE
BEGIN:VEVENT
DTSTART;TZID=America/New_York:20220906T090000
DTEND;TZID=America/New_York:20221030T160000
DTSTAMP:20260419T212306
CREATED:20190729T161843Z
LAST-MODIFIED:20220809T144641Z
UID:64511-1662454800-1667145600@staging.jcfamilies.com
SUMMARY:Super Duper Tennis Fall Classes
DESCRIPTION:Super Duper Tennis Fall Classes\nFALL Tennis Registration is NOW OPEN!\n\nOffering their weekly group classes beginning early September\, running 8-10 weeks into Oct/Nov\nNewport Rooftop full-size Tennis Court weekdays after-school + Sat & Sun\nGrace Church Gym Mondays\, Tuesdays\, and Thursdays after-school hours 3-7 PM\nPLUS they are BACK @ HOPES Rue Gym in Hoboken Saturdays!\nParents\, their ADULT GROUPS are bowing up\, tons of options this Fall (7 days/week AM & PM)\nPrivates are NOT available right now\, but email  (Coach Leo) directly with the day/time/location you are interested and I will put you on the list\nDue to limited coaching staff this Fall\, we expect to be SOLD OUT of everything very soon — as always first come\, first serve.\nIf the class you want is sold out\, email them to be put onto the waitlist (spots do often open!)\nIf you are interested in having your child join one of their advanced classes\, please email.\nThey will NOT be @ Waldo School weekends until November this year\, stay tuned for that schedule later in September.\n\nJersey City\n\nMINI ACES – 3 YRS \nTINY ACES – 4 YRS \nLITTLE ACES – 5-6 YRS \nBIG ACES – 7-9 YRS \nHoboken\nMINI ACES – 3 YRS \nTINY ACES – 4 YRS \nLITTLE ACES – 5-6 YRS \nBIG ACES – 7-9 YRS \nADULT GROUPS\nBeginner\, Intermediate & Advanced levels all offered\n7 days/week AM & PM !\n ALL @ Newport\, see Schedule HERE \n\nTo register visit: https://newjersey.superdupertennis.com/nj-jersey-city \nTo contact Super Duper Tennis: \nEmail: newjersey@superdupertennis.com
URL:https://staging.jcfamilies.com/event/super-duper-tennis-fall-classes/
LOCATION:Newport Rooftop\, 105 River Drive\, Jersey City
ATTACH;FMTTYPE=image/png:https://staging.jcfamilies.com/wp-content/uploads/2019/07/Screen-Shot-2019-07-29-at-12.09.35-PM-768x509-1.png
END:VEVENT
BEGIN:VEVENT
DTSTART;TZID=America/New_York:20221027T173000
DTEND;TZID=America/New_York:20221027T183000
DTSTAMP:20260419T212306
CREATED:20211014T150147Z
LAST-MODIFIED:20221027T143948Z
UID:78963-1666891800-1666895400@staging.jcfamilies.com
SUMMARY:Fall Fest at Grove Street Farmers Market
DESCRIPTION:Fall Fest at Grove Street Farmers Market\nWe are partnering with HDSID Farmers Market for Fall Fest again this year. \nStop by the Grove Street farmer’s market for free pumpkin painting and visit the market to pick up your fresh produce. The first 100 kids will get a free pumpkin. \nThere will also be local businesses selling their products. It will be the perfect time to spend quality time with your kids and get your shopping done! \nWhen: Thursday\, October 27th\, 5:30-6:30 pm \nWhere: Grove Street Farmer’s Market in front of Grove Street PATH Plaza
URL:https://staging.jcfamilies.com/event/fall-fest-at-grove-street-farmers-market/
LOCATION:Grove Street PATH Plaza\, Jersey City\, NJ\, AU
ATTACH;FMTTYPE=image/png:https://staging.jcfamilies.com/wp-content/uploads/2021/10/Sponsored-Events-6.png
END:VEVENT
END:VCALENDAR