BEGIN:VCALENDAR
VERSION:2.0
PRODID:-// - ECPv6.2.8//NONSGML v1.0//EN
CALSCALE:GREGORIAN
METHOD:PUBLISH
X-ORIGINAL-URL:https://staging.jcfamilies.com
X-WR-CALDESC:Events for 
REFRESH-INTERVAL;VALUE=DURATION:PT1H
X-Robots-Tag:noindex
X-PUBLISHED-TTL:PT1H
BEGIN:VTIMEZONE
TZID:America/New_York
BEGIN:DAYLIGHT
TZOFFSETFROM:-0500
TZOFFSETTO:-0400
TZNAME:EDT
DTSTART:20230312T070000
END:DAYLIGHT
BEGIN:STANDARD
TZOFFSETFROM:-0400
TZOFFSETTO:-0500
TZNAME:EST
DTSTART:20231105T060000
END:STANDARD
END:VTIMEZONE
BEGIN:VEVENT
DTSTART;TZID=America/New_York:20230107T091500
DTEND;TZID=America/New_York:20230502T171500
DTSTAMP:20260420T004348
CREATED:20211206T202216Z
LAST-MODIFIED:20221215T201517Z
UID:80981-1673082900-1683047700@staging.jcfamilies.com
SUMMARY:Super Duper Tennis Indoor Winter Classes
DESCRIPTION:Super-Duper Tennis Jersey City: Indoor Winter Classes\nSuper Duper Tennis Jersey City teaches the FUNdamentals of tennis to kids in an educational\, safe\, and exciting environment that enhances self-esteem and builds confidence and overall love for the game. They focus on simple and fun teaching techniques\, developed and supported by the USTA (United States Tennis Association)\, making tennis fun and more accessible using mobile equipment fit for kids – lower nets\, less pressured tennis balls\, and shorter racquets. \nWinter Tennis Registration is NOW OPEN at All Locations! \n\nGet the kids moving this Winter\, and beat the cold with backhands!\nINDOOR Tennis @ 3 locations in Jersey City & Hoboken\nGrace Church Gym is conveniently located at 39 Erie St. in downtown Jersey City\, close to Grove St PATH\nWaldo School Gym is close to both Newport & downtown JC @ 110 First Street\nHOPES Rue Gym is centrally located in Hoboken @ 301 Garden St.\n10-12 weeks of Tennis Jan-Mar\, skipping President’s Weekend with a free make-up included end-of-season\nBeginners and intermediate levels welcome\, PLUS inquire with Coach Leo about Advanced class options (7-10yrs only)\nLow low 4:1 student-to-coach ratio\nIf the spot you want is sold out\, e-Mail COACH LEO\n\nWinter 2023 (Jan-Mar) Spots Remaining…\n(click the class you want to register)3 YRS – MINI ACES\nTUES @ Grace: 3-3:45 PM\nTHURS @ Grace: 3-3:45 PM\nSAT @ HOPES Rue: 12-12:45 PM\nSUN @ Waldo School: 8:30-9:15 AM4 YRS – TINY ACES\nMON @ Grace: 3:15-4 PM (NEW spots!)\nTUES @ Grace: 3:45-4:30 PM\nTHURS @ Grace: 4:30-5:15 PM\nSUN @ Waldo School: 12-12:45 PM (NEW!)5-6 YRS – LITTLE ACES\nMON @ Grace: 3:15-4 PM (NEW!)\nTUES @ Grace: 3-3:45 PM\nTHURS @ Grace: 3:45-4:30 PM & 5:15-6 PM\nSAT @ HOPES Rue 12-1 PM (NEW!)\nSAT @ HOPES Rue 5-6 PM\nSUN @ Waldo School 3-4 PM7-9 YRS – BIG ACES\nSAT @ HOPES Rue 5-6 PM\nSUN @ Waldo School 11 AM-12 PM\nSUN @ Waldo School 4-5 PM (NEW!)\nRegister HERE. 
URL:https://staging.jcfamilies.com/event/super-duper-tennis-jersey-city/
LOCATION:Grace Church \,Van Vorst\, Erie Street\, Jersey City\, NJ\, AU
ATTACH;FMTTYPE=image/jpeg:https://staging.jcfamilies.com/wp-content/uploads/2021/12/71043B9F-9EBD-4F30-90D7-BB4CE8AB7195.jpg
END:VEVENT
BEGIN:VEVENT
DTSTART;TZID=America/New_York:20230412T103000
DTEND;TZID=America/New_York:20230412T233000
DTSTAMP:20260420T004348
CREATED:20191104T193232Z
LAST-MODIFIED:20230206T223549Z
UID:67545-1681295400-1681342200@staging.jcfamilies.com
SUMMARY:Canceled: JCFamilies & Jersey City Moms New Moms Weekly Meetup :
DESCRIPTION:Canceled:JCFamilies & Jersey City Moms New Moms Weekly Meetup\nHi JC Moms!\n\nJCFamilies and Jersey City Moms are excited to be organizing a New Moms Meet-up At Dream Vista Cafe weekly on Wednesdays from 10:30 am-11:30 am.\n\nAre you a new mom looking to connect with other new moms?\nJoin us and make some new friends over coffee and pastries. Dream Vista has ample and beautiful indoor and outdoor seating and a little play area. They are also allergy friendly. (Yay!) Vegan food options are available as well. Again\, there is plenty of indoor and outdoor seating.\nThe outdoor area has a small kids’ play area as well.\nWe’ll see you there! \nJCFamilies runs approximately 18-20 free events throughout the year. These events provide fun and learning for children while parents connect with other families in the area. We are a non-profit organization that needs donations and supporters from you to continue providing free events and classes for kids and families. \nJersey City Moms is a Facebook support group for moms in the area; it’s a great platform to connect with local moms. \nDonate HERE. \n \nTere Fox from Jersey City Moms Facebook group will be there to connect with you all this Wednesday. \nTere Fox is the admin for Jersey City Moms and a long-time resident of Jersey City. She is a mom of two\, and you can usually find her and her kids biking around town and hanging out in the parks.
URL:https://staging.jcfamilies.com/event/new-moms-meet-up/
LOCATION:Dream Vista Cafe\, 177 York St\, Jersey City\, New Jersey\, 07302
ATTACH;FMTTYPE=image/png:https://staging.jcfamilies.com/wp-content/uploads/2019/11/IMG_9826.png
END:VEVENT
END:VCALENDAR