BEGIN:VCALENDAR
VERSION:2.0
PRODID:-// - ECPv6.2.8//NONSGML v1.0//EN
CALSCALE:GREGORIAN
METHOD:PUBLISH
X-ORIGINAL-URL:https://staging.jcfamilies.com
X-WR-CALDESC:Events for 
REFRESH-INTERVAL;VALUE=DURATION:PT1H
X-Robots-Tag:noindex
X-PUBLISHED-TTL:PT1H
BEGIN:VTIMEZONE
TZID:America/New_York
BEGIN:DAYLIGHT
TZOFFSETFROM:-0500
TZOFFSETTO:-0400
TZNAME:EDT
DTSTART:20180311T070000
END:DAYLIGHT
BEGIN:STANDARD
TZOFFSETFROM:-0400
TZOFFSETTO:-0500
TZNAME:EST
DTSTART:20181104T060000
END:STANDARD
END:VTIMEZONE
BEGIN:VEVENT
DTSTART;TZID=America/New_York:20180117T091500
DTEND;TZID=America/New_York:20180117T110000
DTSTAMP:20260425T232727
CREATED:20171219T150541Z
LAST-MODIFIED:20180104T095602Z
UID:54960-1516180500-1516186800@staging.jcfamilies.com
SUMMARY:Hudson Montessori School Open House
DESCRIPTION:Hudson Montessori School in Jersey City \n \nPlease join us to learn more about our school\, curriculum and the admissions process. This is a great opportunity for you to come and see the classrooms. \nPlease RSVP: https://hudsonmontessori.net/open-house/
URL:https://staging.jcfamilies.com/event/hudson-montessori-school-in-jersey-city-3/
LOCATION:Hudson Montessori School\, 50 Regent Street\, Jersey City\, NJ\, United States
CATEGORIES:JCFamily
ATTACH;FMTTYPE=image/png:https://staging.jcfamilies.com/wp-content/uploads/2017/12/website-1.png
ORGANIZER;CN="Hudson Montessori School":MAILTO:admissions@hudsonmontessori.net
END:VEVENT
BEGIN:VEVENT
DTSTART;TZID=America/New_York:20180118T163000
DTEND;TZID=America/New_York:20180118T171500
DTSTAMP:20260425T232727
CREATED:20171120T230352Z
LAST-MODIFIED:20180123T150414Z
UID:54587-1516293000-1516295700@staging.jcfamilies.com
SUMMARY:Preschool of Rock Pop up Family Jam in Downtown JC
DESCRIPTION:Preschool of Rock Pop Up Family Jam: Classes at $15 per class -that’s a 50% discount\nAn interactive 45 minute parent and me music classes performed live on guitar and drums. Our high energy children’s music class is filled with drumming\, shaking\, dancing\, laughter\, and instrument discovery.\nOnly 20 kids in the session so please pay to save your spot. \nBuy your tickets here: http://bit.ly/2xvvfZ4https://www.paypal.com/cgi-bin/webscr?cmd=_s-xclick&hosted_button_id=DZGFZHZCR8DEG \n\nMore about PRESCHOOL OF ROCK \n\nPRESCHOOL OF ROCK IS REDEFINING MUSIC EDUCATION FOR THE YOUNG CHILD BY INSPIRING CREATIVITY\, CONFIDENCE\, AND FREEDOM THROUGH CARING ROLE MODELS\, INNOVATIVE CURRICULUM\, CULTURALLY DIVERSE INSTRUMENTS AND HIP MUSIC. \nhttp://www.preschoolofrock.com/about/#.WbAdqa2ZOqA \nThe fees is non-refundable and non-adjustable.
URL:https://staging.jcfamilies.com/event/preschool-of-rock-back-to-school-jam-in-downtown-jc-3/
LOCATION:Base Gym\, 60 Christopher Columbus Dr\,\, Jersey City\, NJ\, AU
CATEGORIES:JCFamily
ATTACH;FMTTYPE=image/png:https://staging.jcfamilies.com/wp-content/uploads/2017/11/jc-families-jan-18.png
END:VEVENT
END:VCALENDAR