BEGIN:VCALENDAR
VERSION:2.0
PRODID:-// - ECPv6.2.8//NONSGML v1.0//EN
CALSCALE:GREGORIAN
METHOD:PUBLISH
X-ORIGINAL-URL:https://staging.jcfamilies.com
X-WR-CALDESC:Events for 
REFRESH-INTERVAL;VALUE=DURATION:PT1H
X-Robots-Tag:noindex
X-PUBLISHED-TTL:PT1H
BEGIN:VTIMEZONE
TZID:America/New_York
BEGIN:DAYLIGHT
TZOFFSETFROM:-0500
TZOFFSETTO:-0400
TZNAME:EDT
DTSTART:20210314T070000
END:DAYLIGHT
BEGIN:STANDARD
TZOFFSETFROM:-0400
TZOFFSETTO:-0500
TZNAME:EST
DTSTART:20211107T060000
END:STANDARD
END:VTIMEZONE
BEGIN:VEVENT
DTSTART;TZID=America/New_York:20210628T090000
DTEND;TZID=America/New_York:20210728T170000
DTSTAMP:20260425T165755
CREATED:20210413T170641Z
LAST-MODIFIED:20210427T183532Z
UID:75957-1624870800-1627491600@staging.jcfamilies.com
SUMMARY:My Gym Summer Camp\, Jersey City
DESCRIPTION:My Gym Summer Camp\nMy Gym Camp: Fun & Flexible! \nAt My Gym camp they activate the fun every single day – SO LET THE FUN BEGIN! Energizing games\, exciting gymnastics\, cool arts and crafts\, and music that guarantees to keep them moving and engaged. And they can kiss boredom goodbye with themes and programs that constantly change\, so no two weeks of camp are ever the same. \nCamp is perfect for ages 3 yrs- 10yrs (potty-trained\, please). Bring your own snack. \nMorning session will be held at Hamilton Park! \nOutdoor Morning Session 9 A.M – 12 P.M: \n9 a.m – 9:15 a.m: Check in \n9:15 a.m- 10:15: Outdoor play time in Hamilton Park! \n10:15 a.m – 11 a.m: Snack & Craft Time! \n11 a.m – 12 p.m: Dance Around The World (Salsa\, Hip hop\, Bollywood\, & MORE) \nLunch Time \n12pm – 1pm \nIts bring your own lunch and story time \nAfternoon Session 1 P.M – 4 P.M \nThe children will participate in the gym area with energizing fitness games\, gymnastics\, relays\, arts & crafts\, and so much more! \n  \n1 pm- 1:15 pm: Check in \n1:15 p.m – 2:15 p.m:  Gymnastics \n2:15 p.m – 3 p.m: Craft & Snack time! \n3 p.m – 4 p.m: Games & Relays! \nNew Weekly Themes! \nJune 28th-July 2nd- Farm Animals \nJuly 6th-July 9th- America’s Week \nJuly 12th-July 16th- Sports \nJuly 19th- July 23rd- Space \nJuly 26th- July 30th- Summer Olympics \nAug 2nd-Aug 6th- Jungle Week \nAug 9th-Aug 13th- Pirates \nAug 16th-Aug 20th- Under The Sea \nAug 23rd- Aug 27th- Carnival \nAug 30th-Sept 3rd- Superheroes “My Gym Strong!” \nFamily Camp Cards can be used for Summer Camp \nThe more you BUY the more you SAVE! \n1 to 9= $45 per session \n10 to19= $40 per session \n20+= $35 per session \nLunch Hour \n$10 per session \n**NO WALK-INS. 24HR ADVANCED BOOKING REQUIRED** \nSIGN UP HERE \nMy Gym was born out of a passion to teach children in a fun\, physically engaging environment. Their goal is to create an environment where children feel loved and supported so their self-esteem and confidence can flourish. My Gym Jersey City and Hoboken provide classes and activities for children starting as young as 6-weeks-old. Each class is specifically tailored to each age group and are grouped based on parent participation and independent classes.
URL:https://staging.jcfamilies.com/event/my-gym-summer-camp-jersey-city/
LOCATION:My Gym Jersey City\, 252 9th street Jersey City\, NJ 07302\, Jersey City\, NJ\, United States
END:VEVENT
BEGIN:VEVENT
DTSTART;TZID=America/New_York:20210709T191500
DTEND;TZID=America/New_York:20210709T220000
DTSTAMP:20260425T165755
CREATED:20210105T204304Z
LAST-MODIFIED:20210706T160048Z
UID:74411-1625858100-1625868000@staging.jcfamilies.com
SUMMARY:Drive-In Movie Night Series
DESCRIPTION:Drive-In Movie Night Series in Jersey City\nHey Families! \nJoin Exchange Place Alliance for a socially distanced drive-in movie night series! This series will be taking place at 107 Morgan Street Jersey City\, New Jersey. \nSpots are limited so please make sure to purchase your tickets in advance. Gates open at 7:15PM\, the movie starts at 8:15PM. After 8:00PM\, your ticket will be forfeited and is non-refundable. \nAdvanced Admission fees are: \nOne Vehicle per Showing = $20 | One Attendee per Showing = $10 \nVehicles and attendees without vehicles are both welcome. If you plan on attending without a vehicle you must bring your own chair. \nThere will be an FM channel to tune into and listen to the movie audio while in your vehicle. Attendees will be able to listen through speakers onsite. \nWearing masks will be enforced when less than a six foot distance cannot be maintained. Social distancing will be enforced for all vehicles. ? \nThere will be food and drinks available onsite for purchase. \n*In the event that disturbances do occur\, the Exchange Place Alliance staff do reserve the right to remove any disturbances from the premises.* \nFor any questions please email marketing@exchangeplacealliance.com \nCheck all the upcoming movies below: \nLion King: Drive-In Movie Night Series(May 28th\, 2o21)\n \nMean Girls: Drive-In Movie Night Series(June 11th\, 2021)\n \nThe Help: Drive-In Movie Night Series(June 25th\, 2021)\n \nBad Boys 3: Drive-In Movie Night Series(July 9th\, 2021)\n \nMoana: Drive-In Movie Night Series(July 23rd\, 2021)\n \nAvengers: Endgame: Drive-In Movie Night Series(August 6th\, 2021)\n \nBlind Side: Drive-In Movie Night Series(August 20th\, 2021)\n \nAnchorman: Drive-In Movie Night Series(September 3rd\, 2021)\n \nSoul: Drive-In Movie Night Series(September 17th\, 2021)\n \nOceans 8: Drive-In Movie Night Series(October 1st\, 2021)
URL:https://staging.jcfamilies.com/event/drive-in-movie-night-series-in-jersey-city/
LOCATION:107 Morgan Street Jersey City\, NJ 07302\, 107 Morgan Street\, Jersey City\, NJ\, 07302\, United States
END:VEVENT
END:VCALENDAR