BEGIN:VCALENDAR
VERSION:2.0
PRODID:-// - ECPv6.2.8//NONSGML v1.0//EN
CALSCALE:GREGORIAN
METHOD:PUBLISH
X-ORIGINAL-URL:https://staging.jcfamilies.com
X-WR-CALDESC:Events for 
REFRESH-INTERVAL;VALUE=DURATION:PT1H
X-Robots-Tag:noindex
X-PUBLISHED-TTL:PT1H
BEGIN:VTIMEZONE
TZID:America/New_York
BEGIN:DAYLIGHT
TZOFFSETFROM:-0500
TZOFFSETTO:-0400
TZNAME:EDT
DTSTART:20220313T070000
END:DAYLIGHT
BEGIN:STANDARD
TZOFFSETFROM:-0400
TZOFFSETTO:-0500
TZNAME:EST
DTSTART:20221106T060000
END:STANDARD
END:VTIMEZONE
BEGIN:VEVENT
DTSTART;TZID=America/New_York:20220401T100000
DTEND;TZID=America/New_York:20220528T160000
DTSTAMP:20260422T230556
CREATED:20190307T160120Z
LAST-MODIFIED:20220303T155231Z
UID:61384-1648807200-1653753600@staging.jcfamilies.com
SUMMARY:Spring Tennis Registration is NOW OPEN!
DESCRIPTION:Super-Duper Tennis brings the FUN back in the game of tennis – transforming unconventional spaces into sized-down kids courts with equipment fit for your child to make tennis accessible everywhere and anywhere! \nSpring Tennis Registration is NOW OPEN!\n\nOffering our weekly group classes beginning in April\, running 8-10 weeks till June\nHoboken Saturdays @ HOPES Rue Gym 10 AM-4 PM (schedule below)\nNewport Rooftop full-size Tennis Court weekdays after-school + Sat & Sun\nGrace Church Gym Mondays\, Tuesdays\, and Thursdays after-school hours 3-7 PM\nSaturdays AND Sundays @ Waldo School Gym\nAnd our ADULT GROUPS are back!\nEmail Coach Leo re Private and Custom Group Lessons (leo@superdupertennis.com)\n\nNOTE: due to pre-registration\, many of the classes are already sold out; if the class you want is not available\, email leo@superdupertennis.com and we will waitlist you OR add more sections \nJersey City\nMINI ACES – 3 YRS\nMondays @ Grace Church — 3-3:45 PM\nTuesdays @ Grace Church — 3-3:45 PM\nFridays @ Newport 3:30-4:15 PM\nSaturdays @ Newport 9:15-10 AM\nSundays @ Newport 9:15-10 AM\nSaturdays @ Waldo School — 9-9:45 AM\nSundays @ Waldo School — 9-9:45 AMTINY ACES – 4 YRS\nMondays @ Grace Church — 3:45-4:30 PM\nTuesdays @ Grace Church — 4:30-5:15 PM\nThursdays @ Grace Church — 3-3:45 PM\nFridays @ Newport — 3:30-4:15 PM\nSaturdays @ Newport — 9:15-20 AM & 10-10:45 AM\nSaturdays @ Waldo School — 10-10:45 AM & 3:45-4:30 PM\nSundays @ Newport — 9:15-10 AM & 10-10:45 AM\nSundays @ Waldo School — 10-10:45 AM\nLITTLE ACES – 5-6 YRS\nMondays @ Grace Church — 4:30-5:15 PM\nTuesdays @ Grace Church — 3:45-4:30 PM\nThursdays @ Grace Church — 3:45-4:30 PM & 5:15-6:15 PM\nThursdays @ Newport — 3:30-4:30 PM\nFridays @ Newport — 4:30-5:30 PM\nSaturdays @ Newport — 10-11AM & 11AM-12PM\nSaturdays @ Waldo School — 11AM-12 PM & 1:30-2:30 PM\nSundays @ Newport — 11AM-12 PM & 1:30-2:30 PM\nSundays @ Waldo School — 11AM-12 PM & 1:30-2:30 PMBIG ACES – 7-9 YRS\nMondays @ Grace Church — 5:15-6:15 PM\nTuesdays @ Grace Church — 5:15-6:15 PM\nThursdays @ Grace Church — 6-7 PM\nThursdays @ Newport — 5:30-6:30 PM\nFridays @ Newport — 6-7 PM\nSaturdays @ Newport — 12-1 PM & 1-2 PM\nSaturdays @ Waldo School — 1-2 PM & 2:30-3:30\nSundays @ Newport — 12-1 PM\nSundays @ Waldo School — 12-1 PMADULT GROUPS\nBeginner\, intermediate & Advanced levels all offered\n@ Newport\, see Schedule HERE\n\nHoboken \nSAT @ HOPES Rue Gym\nMini Aces 3yrs – 10-10:45 AM\nTiny Aces 4yrs – 10-10:45 AM & 11-1145 AM\nLittle Aces 5-6yrs – 12-1 PM\nBig Aces 7-9yrs – 1-2 PM\nLittle Aces 5-6yrs –  2-3 PM\nBig Aces 7-9yrs – 2-3 PM\nLittle Aces 5-6yrs –  3-4 PM\nBig Aces 7-9yrs  – 3-4 PM
URL:https://staging.jcfamilies.com/event/super-duper-tennis-spring-classes-jersey-city-hoboken/
LOCATION:Newport Waterfront Rooftop Outdoor Tennis Courts\, 105 River Drive South 9th Fl.\, Jersey City\, NJ\, United States
CATEGORIES:Others
ORGANIZER;CN="Super Duper Tennis":MAILTO:leo@superdupertennis.com
END:VEVENT
BEGIN:VEVENT
DTSTART;TZID=America/New_York:20220501T100000
DTEND;TZID=America/New_York:20220501T140000
DTSTAMP:20260422T230556
CREATED:20190425T173801Z
LAST-MODIFIED:20220426T191210Z
UID:62817-1651399200-1651413600@staging.jcfamilies.com
SUMMARY:Bubble Fest at Riverview Fisk Park in Jersey City
DESCRIPTION:Bubble Fest at Riverview Fisk Park in Jersey City\nJCFamilies will host a bubble fest and springtime-themed Arts and Crafts session for all kids with the Riverview Farmers Market\, it is the opening day of the farmer’s market.! \nChildren can enjoy chasing and playing with giant bubbles at the event. \nSpend the day of fun and relaxation with your family at Riverview Fisk Park. Don’t forget to bring the picnic blanket\, it’s going to be a fun and family day. There will be vendors selling food and fresh produce. \nWHEN: Sunday\, May 1st 10am-2pm\nWHERE: Riverview-Fisk Park
URL:https://staging.jcfamilies.com/event/bubble-fest-riverview-fisk-park/
LOCATION:Riverview Fisk Park\,\, Jersey City\, NJ\, AU
CATEGORIES:JCFamily
ORGANIZER;CN="JCFamilies":MAILTO:admin@jcfamilies.com
END:VEVENT
BEGIN:VEVENT
DTSTART;TZID=America/New_York:20220507T101500
DTEND;TZID=America/New_York:20220507T114500
DTSTAMP:20260422T230556
CREATED:20220503T151548Z
LAST-MODIFIED:20220503T152445Z
UID:82611-1651918500-1651923900@staging.jcfamilies.com
SUMMARY:Mandarin Cooking Class at Möge Tee
DESCRIPTION:Mandarin Cooking Class at Möge Tee\nOn Saturday\, May 7\, join Tessa International School’s Mandarin teachers for an exclusive cooking class in Mandarin at Möge Tee! \n\nYour child will learn how to make their sweet rice ball (汤圆) to take home and boil. Through this fun activity\, they will get an initiation to Mandarin and learn vocabulary on the theme of cooking. Children of all levels of Mandarin are welcome to join! \nAll participants will get a 10% discount at Möge Tee to sip on Jersey City’s most delicious bubble teas while your child becomes a cooking master! \nWho? Children ages 4-7 \nWhere? Möge Tee\, 564 Washington Blvd\, Jersey City\, NJ 07310 \nWhen? Saturday\, May 7\, 2022\, from 10:15 am to 11:45 am \nHow much? $10 per child \nThere are only a limited number of spots; register at the link below to participate: https://www.hisawyer.com/tessa-international-school/schedules/activity-set/340527.
URL:https://staging.jcfamilies.com/event/mandarin-cooking-class-at-moge-tee/
LOCATION:Möge Tee\, 564 Washington Blvd\, Jersey City
ATTACH;FMTTYPE=image/png:https://staging.jcfamilies.com/wp-content/uploads/2022/05/Classes-at-moge-tee.png
END:VEVENT
BEGIN:VEVENT
DTSTART;TZID=America/New_York:20220513T103000
DTEND;TZID=America/New_York:20220513T113000
DTSTAMP:20260422T230556
CREATED:20220411T152433Z
LAST-MODIFIED:20220422T171629Z
UID:82211-1652437800-1652441400@staging.jcfamilies.com
SUMMARY:Free Music Class For Toddlers/Kids in Jersey City
DESCRIPTION:Free Music Class For Toddlers/Kids in Jersey City\nHey Parents! \nOur friends at It Takes a Village Childcare Experts are organizing a free music class for kids with Carol Lester on Friday\, May 13th\, 2022\, from 10:30-11:30 am at Cafe Esme. The event will be in the back patio area of the cafe and is free to attend.  Please register with Village before the event. Register HERE : \nAbout Village:\nOur goal is to help parents learn to be the best parents. We connect parents to childcare experts for one-on-one\, interactive video sessions to work together to build a practical toolkit for happy\, emotionally healthy children.  We believe that happy children start with well-prepared parents & that everyone should have access to elite childcare providers\, and we have sourced our Experts from high-profile households around the country. Based in Jersey City\, we believe in being a part of this community and growing along with the city & the families who live here.  We are currently doing pilot testing and are inviting parents for free sessions so we can get feedback to better understand our product & its place in the market.
URL:https://staging.jcfamilies.com/event/free-music-class-for-toddlers-kids-in-jersey-city/
LOCATION:Cafe Esme\, 485 Marin Blvd\, Jersey City
ATTACH;FMTTYPE=image/png:https://staging.jcfamilies.com/wp-content/uploads/2019/07/B564E09E-ED2A-468E-A1FA-5570AB3F8B6F.png
END:VEVENT
END:VCALENDAR