BEGIN:VCALENDAR
VERSION:2.0
PRODID:-// - ECPv6.2.8//NONSGML v1.0//EN
CALSCALE:GREGORIAN
METHOD:PUBLISH
X-ORIGINAL-URL:https://staging.jcfamilies.com
X-WR-CALDESC:Events for 
REFRESH-INTERVAL;VALUE=DURATION:PT1H
X-Robots-Tag:noindex
X-PUBLISHED-TTL:PT1H
BEGIN:VTIMEZONE
TZID:America/New_York
BEGIN:DAYLIGHT
TZOFFSETFROM:-0500
TZOFFSETTO:-0400
TZNAME:EDT
DTSTART:20220313T070000
END:DAYLIGHT
BEGIN:STANDARD
TZOFFSETFROM:-0400
TZOFFSETTO:-0500
TZNAME:EST
DTSTART:20221106T060000
END:STANDARD
END:VTIMEZONE
BEGIN:VEVENT
DTSTART;TZID=America/New_York:20221226T090000
DTEND;TZID=America/New_York:20221230T160000
DTSTAMP:20260419T144500
CREATED:20221219T184324Z
LAST-MODIFIED:20221220T172424Z
UID:85780-1672045200-1672416000@staging.jcfamilies.com
SUMMARY:The Little Gym's Winter Camps
DESCRIPTION:The Little Gym Jersey City:  Winter Camps\nWinter blues? Not at The Little Gym! If you’re looking for a fun way for your child to spend their winter break\, The Little Gym has you covered! \nEach three-hour Winter Camp is filled with adventure\, skill-building\, crafts\, group activities\, and more. Winter Camps will be held from December 26th through December 30th\, but they will fill up fast\, so enroll before they freeze! \nMorning Session: 9 AM to 12 PM | Afternoon Session 1 PM to 4 PM\n(For Full Day Add Lunch Bunch)\n$50 per session (Members) | $55 per session (Non-Members)\n$10 Lunch Bunch (12 PM to 1 PM) \nChildren ages 3-9 years and bathroom independent. You will provide snacks and lunch. \nSign up here.
URL:https://staging.jcfamilies.com/event/the-little-gym-jersey-city/
LOCATION:The Little Gym (Jersey City)\, 380 Newark Ave. Unit 101 and 102\, Jersey City\, NJ\, 07302\, United States
ATTACH;FMTTYPE=image/png:https://staging.jcfamilies.com/wp-content/uploads/2022/12/Winter-Camps-2-1.png
END:VEVENT
END:VCALENDAR