BEGIN:VCALENDAR
VERSION:2.0
PRODID:-// - ECPv6.2.8//NONSGML v1.0//EN
CALSCALE:GREGORIAN
METHOD:PUBLISH
X-ORIGINAL-URL:https://staging.jcfamilies.com
X-WR-CALDESC:Events for 
REFRESH-INTERVAL;VALUE=DURATION:PT1H
X-Robots-Tag:noindex
X-PUBLISHED-TTL:PT1H
BEGIN:VTIMEZONE
TZID:America/New_York
BEGIN:DAYLIGHT
TZOFFSETFROM:-0500
TZOFFSETTO:-0400
TZNAME:EDT
DTSTART:20230312T070000
END:DAYLIGHT
BEGIN:STANDARD
TZOFFSETFROM:-0400
TZOFFSETTO:-0500
TZNAME:EST
DTSTART:20231105T060000
END:STANDARD
END:VTIMEZONE
BEGIN:VEVENT
DTSTART;TZID=America/New_York:20230107T091500
DTEND;TZID=America/New_York:20230502T171500
DTSTAMP:20260421T085432
CREATED:20211206T202216Z
LAST-MODIFIED:20221215T201517Z
UID:80981-1673082900-1683047700@staging.jcfamilies.com
SUMMARY:Super Duper Tennis Indoor Winter Classes
DESCRIPTION:Super-Duper Tennis Jersey City: Indoor Winter Classes\nSuper Duper Tennis Jersey City teaches the FUNdamentals of tennis to kids in an educational\, safe\, and exciting environment that enhances self-esteem and builds confidence and overall love for the game. They focus on simple and fun teaching techniques\, developed and supported by the USTA (United States Tennis Association)\, making tennis fun and more accessible using mobile equipment fit for kids – lower nets\, less pressured tennis balls\, and shorter racquets. \nWinter Tennis Registration is NOW OPEN at All Locations! \n\nGet the kids moving this Winter\, and beat the cold with backhands!\nINDOOR Tennis @ 3 locations in Jersey City & Hoboken\nGrace Church Gym is conveniently located at 39 Erie St. in downtown Jersey City\, close to Grove St PATH\nWaldo School Gym is close to both Newport & downtown JC @ 110 First Street\nHOPES Rue Gym is centrally located in Hoboken @ 301 Garden St.\n10-12 weeks of Tennis Jan-Mar\, skipping President’s Weekend with a free make-up included end-of-season\nBeginners and intermediate levels welcome\, PLUS inquire with Coach Leo about Advanced class options (7-10yrs only)\nLow low 4:1 student-to-coach ratio\nIf the spot you want is sold out\, e-Mail COACH LEO\n\nWinter 2023 (Jan-Mar) Spots Remaining…\n(click the class you want to register)3 YRS – MINI ACES\nTUES @ Grace: 3-3:45 PM\nTHURS @ Grace: 3-3:45 PM\nSAT @ HOPES Rue: 12-12:45 PM\nSUN @ Waldo School: 8:30-9:15 AM4 YRS – TINY ACES\nMON @ Grace: 3:15-4 PM (NEW spots!)\nTUES @ Grace: 3:45-4:30 PM\nTHURS @ Grace: 4:30-5:15 PM\nSUN @ Waldo School: 12-12:45 PM (NEW!)5-6 YRS – LITTLE ACES\nMON @ Grace: 3:15-4 PM (NEW!)\nTUES @ Grace: 3-3:45 PM\nTHURS @ Grace: 3:45-4:30 PM & 5:15-6 PM\nSAT @ HOPES Rue 12-1 PM (NEW!)\nSAT @ HOPES Rue 5-6 PM\nSUN @ Waldo School 3-4 PM7-9 YRS – BIG ACES\nSAT @ HOPES Rue 5-6 PM\nSUN @ Waldo School 11 AM-12 PM\nSUN @ Waldo School 4-5 PM (NEW!)\nRegister HERE. 
URL:https://staging.jcfamilies.com/event/super-duper-tennis-jersey-city/
LOCATION:Grace Church \,Van Vorst\, Erie Street\, Jersey City\, NJ\, AU
ATTACH;FMTTYPE=image/jpeg:https://staging.jcfamilies.com/wp-content/uploads/2021/12/71043B9F-9EBD-4F30-90D7-BB4CE8AB7195.jpg
END:VEVENT
BEGIN:VEVENT
DTSTART;TZID=America/New_York:20230210T173000
DTEND;TZID=America/New_York:20230210T203000
DTSTAMP:20260421T085432
CREATED:20230201T173604Z
LAST-MODIFIED:20230201T174211Z
UID:86271-1676050200-1676061000@staging.jcfamilies.com
SUMMARY:Valentine's Parents Night Out February 10th
DESCRIPTION:Valentine’s Parent’s Night Out!\nYOU DESERVE A NIGHT OUT and your children do too!\nThis is a date night made for kids! \nDrop your kids off for three hours of nonstop fun at My Gym Jersey City. Activities include gymnastics\, games\, rides\, songs\, dance\, relays\, crafts\, practice & play\, and more! Pizza dinner is included! Perfect for children ages 2 and a half and up (potty-trained\, please). Space is limited! Reserve your spot today. \nFriday\, February 10th \n5:30pm to  8:30pm \nAbout My Gym Jersey City was born out of our passion to teach children in a fun\, physically engaging environment. My Gym Jersey City is delighted in seeing children’s eyes light up for all those incredible milestones\, from the tentative first steps to tumbling down soft mats. Sharing the parents’ excitement at their children’s accomplishments was the high point of our day. \nMy Gym’s Jersey City goal: To create an environment where children feel loved and supported so their self-esteem and confidence can flourish. Now\, more than 35 years later\, we’re proud to say that all children of all abilities can succeed and thrive at My Gym Jersey City.
URL:https://staging.jcfamilies.com/event/my-gym-jersey-city/
LOCATION:My Gym Jersey City\, 252 9th street Jersey City\, NJ 07302\, Jersey City\, NJ\, United States
ATTACH;FMTTYPE=image/png:https://staging.jcfamilies.com/wp-content/uploads/2023/02/0.png
END:VEVENT
BEGIN:VEVENT
DTSTART;TZID=America/New_York:20230215T183000
DTEND;TZID=America/New_York:20230215T203000
DTSTAMP:20260421T085432
CREATED:20190503T220818Z
LAST-MODIFIED:20230207T153545Z
UID:63024-1676485800-1676493000@staging.jcfamilies.com
SUMMARY:The Brunswick School: Open House
DESCRIPTION:The Brunswick School: Open House\nTuesday\, February 15th @ 6:30 pm \n189 Brunswick St Jersey City\, NJ 07302 \nYou are invited to join The Brunswick School for an Open House. If you would like to RSVP\, please email Admissions@TheBrunswickSchool.com \nAbout The Brunswick School:\nThe mission of the Brunswick School (TBS) is to provide a safe\, nurturing\, and inspiring learning environment\, and holistic education that considers children’s physical\, cognitive\, social/emotional\, language\, and life-skill development and progress. TBS helps children reach developmentally-appropriate milestones\, using an adaptable curriculum that meets the unique needs of each child and allows teachers to scaffold learning catering to each child’s talents and strengths. \nTBS believes that fostering creativity\, offering hands-on experiences\, and connecting the classrooms with the real world through monthly themes\, are effective ways to engage and develop young minds so they can thrive in elementary school and beyond. \nThe school was founded on the belief that we should celebrate the diversity of Jersey City. We are committed to fostering meaningful connections with those in our neighborhood and extended community of students\, families\, teachers\, and staff. \n \nUpdated February 7th 2023
URL:https://staging.jcfamilies.com/event/the-brunswick-open-house/
LOCATION:The Brunswick School in Downtown Jersey City\, 189 Brunswick Street \, Jersey city\,NJ\, 07302\, United States
CATEGORIES:JCFamily,open house
ATTACH;FMTTYPE=image/png:https://staging.jcfamilies.com/wp-content/uploads/2019/05/thebrunswick-school.png
END:VEVENT
BEGIN:VEVENT
DTSTART;TZID=America/New_York:20230216T190000
DTEND;TZID=America/New_York:20230216T210000
DTSTAMP:20260421T085432
CREATED:20191230T160250Z
LAST-MODIFIED:20230213T174448Z
UID:68970-1676574000-1676581200@staging.jcfamilies.com
SUMMARY:Business Networking Night in Jersey City
DESCRIPTION:Valley National Bank Present Business Networking Night in Jersey City \nAre you ready to start a new year with new business Ideas\, a new strategy\, and new connections? Our Business Networking event will provide you with a platform to connect with other local businesses and create a network of like-minded people. In addition\, there will be an opportunity for collaborators to exchange ideas. \nWe are excited to bring back our networking night in the new year! Of course\, there will be wine and snacks to enjoy too. So join us for your chance to connect with local businesses and gain exposure. \nWe will also invite a few successful business owners to share their expertise. \nThis event is sponsored by Valley National Bank\, and their focus for the evening will be community lending and access to Capital. \n \n  \n  \n  \nAs with all networking events\, exposure is vital. So put on your best socialite hat and come prepared to connect/collaborate with multiple local businesses (as a guideline\, we recommend a minimum of three). \nYou will hear invited speakers share their experiences to inspire more collaboration among the local small businesses. \nThere is a $25 entrance fee which will cover drinks and snacks. Any remaining funds will support JCFamilies’ community efforts. \nThe space for the event is sponsored by DVORA. \n \n  \nJCFamilies is a local non-profit (501-c(3) with a mission to serve local families. We organize events to build and encourage community interaction and provide information to support parents raising their children in the area. \nJersey City Moms is a Facebook support group for moms in the area; it’s a great platform to connect with local moms.\nThis event would be perfect for you if you have a business and want to create significant connections. So don’t forget to bring your business cards; see you there!
URL:https://staging.jcfamilies.com/event/business-networking-night-in-jersey-city/
LOCATION:DVORA 175 second\, 175 2nd St\, Jersey City
ATTACH;FMTTYPE=image/png:https://staging.jcfamilies.com/wp-content/uploads/2019/12/IMG_5894.png
END:VEVENT
END:VCALENDAR