BEGIN:VCALENDAR
VERSION:2.0
PRODID:-// - ECPv6.2.8//NONSGML v1.0//EN
CALSCALE:GREGORIAN
METHOD:PUBLISH
X-ORIGINAL-URL:https://staging.jcfamilies.com
X-WR-CALDESC:Events for 
REFRESH-INTERVAL;VALUE=DURATION:PT1H
X-Robots-Tag:noindex
X-PUBLISHED-TTL:PT1H
BEGIN:VTIMEZONE
TZID:America/New_York
BEGIN:DAYLIGHT
TZOFFSETFROM:-0500
TZOFFSETTO:-0400
TZNAME:EDT
DTSTART:20230312T070000
END:DAYLIGHT
BEGIN:STANDARD
TZOFFSETFROM:-0400
TZOFFSETTO:-0500
TZNAME:EST
DTSTART:20231105T060000
END:STANDARD
END:VTIMEZONE
BEGIN:VEVENT
DTSTART;TZID=America/New_York:20230715T130000
DTEND;TZID=America/New_York:20230715T150000
DTSTAMP:20260423T151937
CREATED:20230628T145137Z
LAST-MODIFIED:20230628T145254Z
UID:88512-1689426000-1689433200@staging.jcfamilies.com
SUMMARY:REAL TALK ABOUT MENOPAUSE: WHAT YOUR MOTHER NEVER TOLD YOU.
DESCRIPTION:An in personal masterclass on what to expect and how to manage your health before and through peri-menopause and beyond.\n\nExperts include:\nDr. Dineasha Potter-McQuilkin\, a Hoboken based menopause specialized gynecologist\nLaura Lacey\, Hoboken based nutrition coach specializing in the menopausal woman\nDr. Melanie Llanes\, Jersey City based pelvic floor physical therapist\nTina Tang\, Jersey City based certified personal trainer who specializes in strength training for women over 40.\n\n\n\n\nSaturday\, July 15\, 2023\n1-3pm\nSerendipity Lofts\, 121 Newark Avenue\n\n\nMore details on the masterclass here:https://ironstrongfitness.lpages.co/menopause-masterclass/
URL:https://staging.jcfamilies.com/event/real-talk-about-menopause-what-your-mother-never-told-you/
LOCATION:Hamilton Park\, Jersey City\, 121 Newark Avenue\, Jersey City\, NJ\, United States
ATTACH;FMTTYPE=image/png:https://staging.jcfamilies.com/wp-content/uploads/2023/06/MENOPAUSE-MASTERCLASS.png
END:VEVENT
END:VCALENDAR