BEGIN:VCALENDAR
VERSION:2.0
PRODID:-// - ECPv6.2.8//NONSGML v1.0//EN
CALSCALE:GREGORIAN
METHOD:PUBLISH
X-ORIGINAL-URL:https://staging.jcfamilies.com
X-WR-CALDESC:Events for 
REFRESH-INTERVAL;VALUE=DURATION:PT1H
X-Robots-Tag:noindex
X-PUBLISHED-TTL:PT1H
BEGIN:VTIMEZONE
TZID:America/New_York
BEGIN:DAYLIGHT
TZOFFSETFROM:-0500
TZOFFSETTO:-0400
TZNAME:EDT
DTSTART:20200308T070000
END:DAYLIGHT
BEGIN:STANDARD
TZOFFSETFROM:-0400
TZOFFSETTO:-0500
TZNAME:EST
DTSTART:20201101T060000
END:STANDARD
END:VTIMEZONE
BEGIN:VEVENT
DTSTART;TZID=America/New_York:20200125T100000
DTEND;TZID=America/New_York:20200125T120000
DTSTAMP:20260424T200723
CREATED:20191216T163803Z
LAST-MODIFIED:20200120T194658Z
UID:68844-1579946400-1579953600@staging.jcfamilies.com
SUMMARY:Camp Riverbend "Wizarding World" Open House
DESCRIPTION:Camp Riverbend “Wizarding World” Open House\n \nChoosing a camp for this summer? \nCome sample Camp Riverbend’s awesome summer activities this winter at their “Wizarding World” Open House Saturday\, January 25\, 10 am – 12 noon. They will have lots of fun Riverbend activities for kids and parents\, run by their amazing counselors\, including “magical” games\, crafts and cooking. \nTake a tour of the campsite with their directors. Free! RSVP required to RSVP@campriverbend.com or 908-580-CAMP. You can find more information about Camp Riverbend here.  \n \nCamp Riverbend is 30 minutes from downtown Jersey City and Hoboken; daily summer bus service included.
URL:https://staging.jcfamilies.com/event/camp-riverbend-wizarding-world-open-house/
LOCATION:Camp Riverbend\, 116 Hillcrest Rd\, Warren\,\, New Jersey 07059\, AU
CATEGORIES:JCFamily,open house
ATTACH;FMTTYPE=image/png:https://staging.jcfamilies.com/wp-content/uploads/2019/12/511D2326-458B-4E5D-8747-E61272ECF2F0.png
ORGANIZER;CN="Camp Riverbend":MAILTO:campriverbend@gmail.com
END:VEVENT
END:VCALENDAR